BEGIN:VCALENDAR
VERSION:2.0
CALSCALE:GREGORIAN
PRODID:adamgibbons/ics
METHOD:PUBLISH
X-PUBLISHED-TTL:PT1H
BEGIN:VEVENT
UID:2329@bonn.jetzt
SUMMARY:Recht und Realpolitik?
DTSTAMP:20260421T182459Z
DTSTART:20260422T160000Z
DTEND:20260422T173000Z
URL:https://bonn.jetzt/event/recht-und-realpolitik
GEO:50.734;7.09699
LOCATION:Haus der Bildung / VHS - Mülheimer Platz 1\, 53111 Bonn
STATUS:CONFIRMED
CATEGORIES:Bonn,kostenlos,Völkerrecht
END:VEVENT
END:VCALENDAR
