BEGIN:VCALENDAR
VERSION:2.0
CALSCALE:GREGORIAN
PRODID:adamgibbons/ics
METHOD:PUBLISH
X-PUBLISHED-TTL:PT1H
BEGIN:VEVENT
UID:2336@bonn.jetzt
SUMMARY:Landesjugendzirkus - Premiere UNLÖ?BAR - 6 Artistinnen aus Bonn
DTSTAMP:20260423T145016Z
DTSTART:20260426T130000Z
DTEND:20260426T143000Z
URL:https://bonn.jetzt/event/landesjugendzirkus-premiere-unlobar-6-artistin
	nen-aus-bonn
GEO:50.727;7.10175
LOCATION:Clara-Schumann-Gymnasium Aula - 14\, Loestraße\, Südstadt\, Stadtb
	ezirk Bonn\, Bonn\, Nordrhein-Westfalen\, 53113\, Deutschland
STATUS:CONFIRMED
CATEGORIES:Landesjugendzirkus,Performance,Tanz,Theater,Zirkus
END:VEVENT
END:VCALENDAR
