BEGIN:VCALENDAR
VERSION:2.0
CALSCALE:GREGORIAN
PRODID:adamgibbons/ics
METHOD:PUBLISH
X-PUBLISHED-TTL:PT1H
BEGIN:VEVENT
UID:2107@bonn.jetzt
SUMMARY:Dad's Phonkey & Gäste: Into the Loop!
DTSTAMP:20260421T102100Z
DTSTART:20260421T173000Z
URL:https://bonn.jetzt/event/dads-phonkey-and-gaste-into-the-loop
GEO:50.7397;7.13243
LOCATION:Pantheon Theater - 42\, Siegburger Straße\, Beuel-Ost\, Bonn-Beuel
	\, Bonn\, Nordrhein-Westfalen\, 53229\, Deutschland
STATUS:CONFIRMED
CATEGORIES:Bonn,Dad'sPhonkey,Jazz,Konzert,PantheonTheater
END:VEVENT
BEGIN:VEVENT
UID:2258@bonn.jetzt
SUMMARY:HCC-BigBand Live und Draußen - Rheinparkkonzert
DTSTAMP:20260421T102100Z
DTSTART:20260604T140000Z
DTEND:20260604T153000Z
URL:https://bonn.jetzt/event/hcc-bigband-live-und-draussen-rheinparkkonzert
LOCATION:Wesseling\, Rheinpark - Auf dem Sonnenberg 21\, 50389 Wesseling
STATUS:CONFIRMED
CATEGORIES:Big Band,Konzert,Rheinparkkonzert,Wesseling
END:VEVENT
BEGIN:VEVENT
UID:2296@bonn.jetzt
SUMMARY:BRINGS ... auf dem KUNST!RASEN 2026
DTSTAMP:20260421T102100Z
DTSTART:20260703T170000Z
DTEND:20260703T190000Z
URL:https://bonn.jetzt/event/brings-auf-dem-kunstrasen-2026
GEO:50.7148;7.13294
LOCATION:Kunst!Rasen Bonn Gronau - Charles-de-Gaulle Straße\, 53113 Bonn
STATUS:CONFIRMED
CATEGORIES:Konzert,Kunst!Rasen Bonn,Live-Musik,OpenAir
END:VEVENT
BEGIN:VEVENT
UID:2297@bonn.jetzt
SUMMARY:15 JAHRE MONTEZ - DIE JUBILÄUMSTOUR
DTSTAMP:20260421T102100Z
DTSTART:20260704T170000Z
DTEND:20260704T190000Z
URL:https://bonn.jetzt/event/15-jahre-montez-die-jubilaumstour
GEO:50.7148;7.13294
LOCATION:Kunst!Rasen Bonn Gronau - Charles-de-Gaulle Straße\, 53113 Bonn
STATUS:CONFIRMED
CATEGORIES:Konzert,Kunst!Rasen Bonn,Livemusik,OpenAir
END:VEVENT
BEGIN:VEVENT
UID:1072@bonn.jetzt
SUMMARY:Yasi Hofer - Between the Lines
DTSTAMP:20260421T102100Z
DTSTART:20261020T180000Z
DTEND:20261020T200000Z
URL:https://bonn.jetzt/event/yasi-hofer-between-the-lines
GEO:50.7268;7.07419
LOCATION:Harmonie Bonn - Frongasse 28-30\, 53121 Bonn
STATUS:CONFIRMED
CATEGORIES:Bonn,HarmonieBonn,Konzert,YASI,Yasi Hofer
END:VEVENT
BEGIN:VEVENT
UID:2259@bonn.jetzt
SUMMARY:HCC-BigBand - Jahresabschlusskonzert
DTSTAMP:20260421T102100Z
DTSTART:20261128T190000Z
DTEND:20261128T213000Z
URL:https://bonn.jetzt/event/hcc-bigband-jahresabschlusskonzert
GEO:50.8265;6.97508
LOCATION:Aula Johannes-Gutenberg-Schule\, Wesseling - 14\, Gartenstraße\, G
	emarkung Wesseling\, Wesseling-Mitte\, Wesseling\, Rhein-Erft-Kreis\, Nord
	rhein-Westfalen\, 50389\, Deutschland
STATUS:CONFIRMED
CATEGORIES:Big Band,Konzert,Wesseling
END:VEVENT
END:VCALENDAR
