BEGIN:VCALENDAR
VERSION:2.0
CALSCALE:GREGORIAN
PRODID:adamgibbons/ics
METHOD:PUBLISH
X-PUBLISHED-TTL:PT1H
BEGIN:VEVENT
UID:2327@bonn.jetzt
SUMMARY:Uni im Rathaus - Anpassung an den Klimawandel – aber wie?
DTSTAMP:20260421T142829Z
DTSTART:20260421T160000Z
DTEND:20260421T173000Z
URL:https://bonn.jetzt/event/uni-im-rathaus-anpassung-an-den-klimawandel-ab
	er-wie
LOCATION:Bonn\, Altes Rathaus\, Gobelinsaal - Am Markt\, 53111 Bonn
STATUS:CONFIRMED
CATEGORIES:Bonn,Klima,Klimawandel,kostenlos,Uni im Rathaus
END:VEVENT
END:VCALENDAR
