BEGIN:VCALENDAR
VERSION:2.0
CALSCALE:GREGORIAN
PRODID:adamgibbons/ics
METHOD:PUBLISH
X-PUBLISHED-TTL:PT1H
BEGIN:VEVENT
UID:2320@bonn.jetzt
SUMMARY:Rennradeln nach Feierabend
DTSTAMP:20260421T083658Z
DTSTART:20260422T160000Z
DTEND:20260422T183000Z
URL:https://bonn.jetzt/event/rennradeln-nach-feierabend-42
LOCATION:Wilhelm-Spiritus-Ufer\, 53113 Bonn - null
STATUS:CONFIRMED
CATEGORIES:Bonn,Fahrrad,Sport
END:VEVENT
END:VCALENDAR
