BEGIN:VCALENDAR
VERSION:2.0
CALSCALE:GREGORIAN
PRODID:adamgibbons/ics
METHOD:PUBLISH
X-PUBLISHED-TTL:PT1H
BEGIN:VEVENT
UID:2178@bonn.jetzt
SUMMARY:Alle Vögle sind schon da
DTSTAMP:20260421T085955Z
DTSTART:20260429T160000Z
DTEND:20260429T180000Z
URL:https://bonn.jetzt/event/alle-vogle-sind-schon-da
GEO:50.734;7.09699
LOCATION:Haus der Bildung / VHS - Mülheimer Platz 1\, 53111 Bonn
STATUS:CONFIRMED
CATEGORIES:Nachhaltigkeit,Naturschutz
END:VEVENT
BEGIN:VEVENT
UID:2199@bonn.jetzt
SUMMARY:Workshop im Garten der Bildung: Wurmkisten-Bau
DTSTAMP:20260421T085955Z
DTSTART:20260506T130000Z
DTEND:20260506T143000Z
URL:https://bonn.jetzt/event/workshop-im-garten-der-bildung-wurmkisten-bau
GEO:50.734;7.09699
LOCATION:Haus der Bildung / VHS - Mülheimer Platz 1\, 53111 Bonn
STATUS:CONFIRMED
CATEGORIES:Nachhaltigkeit,Wurmkiste
END:VEVENT
BEGIN:VEVENT
UID:2209@bonn.jetzt
SUMMARY:BarCamp Nachhaltige Zukunft Bonn 2026
DTSTAMP:20260421T085955Z
DTSTART:20260925T073000Z
DTEND:20260925T150000Z
URL:https://bonn.jetzt/event/barcamp-nachhaltige-zukunft-bonn-2026
GEO:50.734;7.09699
LOCATION:Haus der Bildung / VHS - Mülheimer Platz 1\, 53111 Bonn
STATUS:CONFIRMED
CATEGORIES:Barcamp,Bonn,Nachhaltigkeit
END:VEVENT
END:VCALENDAR
