BEGIN:VCALENDAR
VERSION:2.0
CALSCALE:GREGORIAN
PRODID:adamgibbons/ics
METHOD:PUBLISH
X-PUBLISHED-TTL:PT1H
BEGIN:VEVENT
UID:2342@bonn.jetzt
SUMMARY:Repair-Café für Alles an der MVA - Weiternutzen statt wegwerfen
DTSTAMP:20260425T151139Z
DTSTART:20260523T090000Z
DTEND:20260523T130000Z
DESCRIPTION:Diese Werkstatt der besonderen Art wird von ehrenamtlichen Mita
	rbeitenden\nbetrieben. Mit dem Repair-Café sind auch Reparaturen fürs klei
	ne Portemonnaie\nmöglich.\n\nInitiiert von SWB Verwertung mit der Bonner A
	rbeitsgemeinschaft „Repair Cafés\,\nOffene Werkstätten und Makerspaces“.\n
	\nwww.repaircafesbonn.de [https://www.repaircafesbonn.de/]\n\n\nEINTRITT\n
	\nDie Reparatur kostet nichts\, eventuelle Ersatzteile müssen jedoch selbs
	t besorgt\nwerden. Wer dennoch den Erfolg finanziell honorieren möchte: Di
	e Kaffeekasse\nfreut sich sehr über Spenden. 
URL:https://bonn.jetzt/event/repair-cafe-fur-alles-an-der-mva-weiternutzen-
	statt-wegwerfen-22
GEO:50.7341;7.07736
LOCATION:MVA - Müllverwertungsanlage - 22\, Immenburgstraße\, Weststadt\, S
	tadtbezirk Bonn\, Bonn\, Nordrhein-Westfalen\, 53121\, Deutschland
STATUS:CONFIRMED
CATEGORIES:RepairCafe,Reparieren
X-ALT-DESC;FMTTYPE=text/html:<p>Diese Werkstatt der besonderen Art wird von
	 ehrenamtlichen Mitarbeitenden betrieben. Mit dem Repair-Café sind auch Re
	paraturen fürs kleine Portemonnaie möglich.</p><p>Initiiert von SWB Verwer
	tung mit der Bonner Arbeitsgemeinschaft „Repair Cafés, Offene Werkstätten 
	und Makerspaces“.</p><p><a target="_blank" href="https://www.repaircafesbo
	nn.de/"><em>www.repaircafesbonn.de</em></a></p><h2><strong>Eintritt</stron
	g></h2><p>Die Reparatur kostet nichts, eventuelle Ersatzteile müssen jedoc
	h selbst besorgt werden. Wer dennoch den Erfolg finanziell honorieren möch
	te: Die Kaffeekasse freut sich sehr über Spenden.&nbsp;</p>
BEGIN:VALARM
ACTION:DISPLAY
DESCRIPTION:Repair-Café für Alles an der MVA - Weiternutzen statt wegwerfen
TRIGGER:-PT1H
END:VALARM
END:VEVENT
END:VCALENDAR
