BEGIN:VCALENDAR
VERSION:2.0
CALSCALE:GREGORIAN
PRODID:adamgibbons/ics
METHOD:PUBLISH
X-PUBLISHED-TTL:PT1H
BEGIN:VEVENT
UID:2332@bonn.jetzt
SUMMARY:OpenStreetMap (OSM) - Stammtisch
DTSTAMP:20260421T223114Z
DTSTART:20260519T170000Z
DTEND:20260519T193000Z
DESCRIPTION:Der OSM-Stammtisch findet in der Regel am 3. Dienstag im Monat 
	statt\, aber nur\,\nwenn er unten auch als Termin aufgeführt ist:\nhttps:/
	/wiki.openstreetmap.org/wiki/Bonn/Stammtisch\n[https://wiki.openstreetmap.
	org/wiki/Bonn/Stammtisch]
URL:https://bonn.jetzt/event/openstreetmap-osm-stammtisch-23
GEO:50.7069;7.12142
LOCATION:Dottys im BTHV - Christian-Miesen-Str. 1\, 53129 Bonn
STATUS:CONFIRMED
CATEGORIES:Meetup,OpenStreetMap
X-ALT-DESC;FMTTYPE=text/html:<p><strong>Der OSM-Stammtisch findet in der Re
	gel am 3. Dienstag im Monat statt, aber nur, wenn er unten auch als Termin
	 aufgeführt ist: </strong><a href="https://wiki.openstreetmap.org/wiki/Bon
	n/Stammtisch" target="_blank"><strong>https://wiki.openstreetmap.org/wiki/
	Bonn/Stammtisch</strong></a></p>
BEGIN:VALARM
ACTION:DISPLAY
DESCRIPTION:OpenStreetMap (OSM) - Stammtisch
TRIGGER:-PT1H
END:VALARM
END:VEVENT
END:VCALENDAR
