BEGIN:VCALENDAR
VERSION:2.0
CALSCALE:GREGORIAN
PRODID:adamgibbons/ics
METHOD:PUBLISH
X-PUBLISHED-TTL:PT1H
BEGIN:VEVENT
UID:2328@bonn.jetzt
SUMMARY:KI und Kolonialismus - Wer zahlt den Preis für unseren Fortschritt?
DTSTAMP:20260421T163805Z
DTSTART:20260422T170000Z
DTEND:20260422T183000Z
DESCRIPTION:Die Entwicklungen der Künstlichen Intelligenz bringen viele Vor
	teile. Aber an\ndiesem Abend wollen wir über die Schattenseiten sprechen. 
	Neben der\n„Geisterarbeit“ hinter KI-Anwendungen und ökologischen Fragen g
	eht es um die\nAspekte Daten\, Diskriminierung\, Überwachung und Geopoliti
	k.\n\nWas müssen wir wissen und wie sollten wir damit als Gesellschaft und
	 Individuum\ndamit umgehen?\n\nIngo Dachwitz ist Journalist und Mitautor d
	es Buches „Digitaler Kolonialismus.\nWie Tech-Konzerne und Großmächte die 
	Welt unter sich aufteilen“ (Beck Verlag\n2025). Das Buch von ihm und Sven 
	Hilbig war 2025 für den Sachbuchpreis\nnominiert.\n\nDer Abend findet im R
	ahmen der Veranstaltungsreihe „Medien.Mündigkeit“ statt\,\ndie 2026 den Sc
	hwerpunkt „KI.Perspektiven“ hat.\n\nIn Kooperation mit der Stiftung Inform
	ationskompetenz\, dem Evangelisches Forum\nund der Evangelischen Akademie 
	im Rheinland. 
URL:https://bonn.jetzt/event/ki-und-kolonialismus-wer-zahlt-den-preis-fur-u
	nseren-fortschritt
LOCATION:Kirchenpavillon\, Kaiserplatz 1 a\, 53113 Bonn - Kaiserplatz 1 a\,
	 53113 Bonn
STATUS:CONFIRMED
CATEGORIES:Bonn,kostenlos
X-ALT-DESC;FMTTYPE=text/html:<p>Die Entwicklungen der Künstlichen Intellige
	nz bringen viele Vorteile. Aber an diesem Abend wollen wir über die Schatt
	enseiten sprechen. Neben der „Geisterarbeit“ hinter KI-Anwendungen und öko
	logischen Fragen geht es um die Aspekte Daten, Diskriminierung, Überwachun
	g und Geopolitik. </p><p>Was müssen wir wissen und wie sollten wir damit a
	ls Gesellschaft und Individuum damit umgehen?</p><p>Ingo Dachwitz ist Jour
	nalist und Mitautor des Buches „Digitaler Kolonialismus. Wie Tech-Konzerne
	 und Großmächte die Welt unter sich aufteilen“ (Beck Verlag 2025). Das Buc
	h von ihm und Sven Hilbig war 2025 für den Sachbuchpreis nominiert.</p><p>
	Der Abend findet im Rahmen der Veranstaltungsreihe „Medien.Mündigkeit“ sta
	tt, die 2026 den Schwerpunkt „KI.Perspektiven“ hat.</p><p>In Kooperation m
	it der Stiftung Informationskompetenz, dem Evangelisches Forum und der Eva
	ngelischen Akademie im Rheinland.&nbsp;</p>
BEGIN:VALARM
ACTION:DISPLAY
DESCRIPTION:KI und Kolonialismus - Wer zahlt den Preis für unseren Fortschr
	itt?
TRIGGER:-PT1H
END:VALARM
END:VEVENT
END:VCALENDAR
