BEGIN:VCALENDAR
VERSION:2.0
CALSCALE:GREGORIAN
PRODID:adamgibbons/ics
METHOD:PUBLISH
X-PUBLISHED-TTL:PT1H
BEGIN:VEVENT
UID:2333@bonn.jetzt
SUMMARY:Cryptoparty
DTSTAMP:20260421T222940Z
DTSTART:20260519T160000Z
DESCRIPTION:KRYPTOGRAFIE MUSS NICHT ESOTERISCH SEIN\n\nEgal\, ob Sie nicht 
	wollen\, dass Geheimdienste private Nachrichten mitlesen oder\nob Sie verh
	indern möchten\, dass Ihre Online-Konten in falsche Hände geraten -\nCompu
	tersicherheit betrifft alle\, ob Laien oder Profis.\n\nPerfekte Sicherheit
	 kann es nicht geben\, aber wenigstens gibt es Programme\, die\ndas digita
	le Leben erheblich sicherer gestalten. Gerade Laien möchten nicht\nlange F
	achartikel über diese Programme lesen\, sondern einfach an ihrem Gerät\nge
	zeigt bekommen wie es geht. Dafür gibt es die Cryptoparty.\n\nAuf einer Cr
	yptoparty gibt es nicht viel Theorie\, sondern praktische Hilfe\,\ninsbeso
	ndere beim Verschlüsseln von Festplatten und USB-Sticks\,\nMailverschlüsse
	lung\, anonymem Surfen\, Passwortverwaltung und sicherem mobile\nMessaging
	. Nach einem kurzen Einführungsvortrag bekommen die Teilnehmerinnen und\nT
	eilnehmer Gelegenheit\, in Arbeitsgruppen die vorgestellten Programme auf 
	ihren\nmitgebrachten Geräten zu installieren und auszuprobieren.\n\nDie Cr
	yptoparty ist überparteilich und nichtkommerziell\n[https://www.cryptopart
	y.in/guiding_principles]. Die hier angekündigte\nVeranstaltungsreihe wird 
	unterstützt vom Chaos Computer Club Köln\n[http://koeln.ccc.de/]\, vom Köl
	n-Bonner Arbeitskreis Vorratsdatenspeicherung\n[http://wiki.vorratsdatensp
	eicherung.de/Ortsgruppen/K%C3%B6ln-Bonn]\, Mitgliedern\nder Bonner Free So
	ftware Foundation Europe [https://wiki.fsfe.org/groups/Bonn] \,\ndes Freif
	unks [http://bonn.freifunk.net/] und verschiedenen Privatpersonen.\n\nEine
	 kleine Checkliste [https://www.ak-vorrat.org/wiki/cryptoparty:checklist]\
	nhilft Ihnen bei der Vorbereitung.
URL:https://bonn.jetzt/event/cryptoparty-30
GEO:50.7407;7.09234
LOCATION:Frauenmuseum - 10\, Im Krausfeld\, Altstadt\, Nordstadt\, Stadtbez
	irk Bonn\, Bonn\, Nordrhein-Westfalen\, 53111\, Deutschland
STATUS:CONFIRMED
CATEGORIES:Bonn,Cybersecurity,Datenschutz,Freie Software,IT-Sicherheit,Meet
	up,Verschlüsselung
X-ALT-DESC;FMTTYPE=text/html:<h1><strong>Kryptografie muss nicht esoterisch
	 sein</strong></h1><p>Egal, ob Sie nicht wollen, dass Geheimdienste privat
	e Nachrichten mitlesen oder ob Sie verhindern möchten, dass Ihre Online-Ko
	nten in falsche Hände geraten - Computersicherheit betrifft alle, ob Laien
	 oder Profis.</p><p>Perfekte Sicherheit kann es nicht geben, aber wenigste
	ns gibt es Programme, die das digitale Leben erheblich sicherer gestalten.
	 Gerade Laien möchten nicht lange Fachartikel über diese Programme lesen, 
	sondern einfach an ihrem Gerät gezeigt bekommen wie es geht. Dafür gibt es
	 die Cryptoparty.</p><p>Auf einer Cryptoparty gibt es nicht viel Theorie, 
	sondern praktische Hilfe, insbesondere beim Verschlüsseln von Festplatten 
	und USB-Sticks, Mailverschlüsselung, anonymem Surfen, Passwortverwaltung u
	nd sicherem mobile Messaging. Nach einem kurzen Einführungsvortrag bekomme
	n die Teilnehmerinnen und Teilnehmer Gelegenheit, in Arbeitsgruppen die vo
	rgestellten Programme auf ihren mitgebrachten Geräten zu installieren und 
	auszuprobieren.</p><p>Die Cryptoparty ist <a href="https://www.cryptoparty
	.in/guiding_principles" target="_blank">überparteilich und nichtkommerziel
	l</a>. Die hier angekündigte Veranstaltungsreihe wird unterstützt vom <a h
	ref="http://koeln.ccc.de/" target="_blank">Chaos Computer Club Köln</a>, v
	om Köln-Bonner <a href="http://wiki.vorratsdatenspeicherung.de/Ortsgruppen
	/K%C3%B6ln-Bonn" target="_blank">Arbeitskreis Vorratsdatenspeicherung</a>,
	 Mitgliedern der Bonner <a href="https://wiki.fsfe.org/groups/Bonn" target
	="_blank">Free Software Foundation Europe</a> , des <a href="http://bonn.f
	reifunk.net/" target="_blank">Freifunks</a> und verschiedenen Privatperson
	en.</p><p>Eine kleine <a href="https://www.ak-vorrat.org/wiki/cryptoparty:
	checklist" target="_blank">Checkliste</a> hilft Ihnen bei der Vorbereitung
	.</p>
BEGIN:VALARM
ACTION:DISPLAY
DESCRIPTION:Cryptoparty
TRIGGER:-PT1H
END:VALARM
END:VEVENT
END:VCALENDAR
